BEGIN:VCALENDAR
VERSION:2.0
PRODID:-//JAX Fray //NONSGML Events //EN
CALSCALE:GREGORIAN
X-WR-CALNAME:JAX Fray
BEGIN:VEVENT
CREATED:20220623T185437Z
UID:6789
DTEND;VALUE=DATE:20260422T044721Z
DTSTART;VALUE=DATE:20260422T044721Z
DTSTAMP:20260422T084721Z
LOCATION:
DESCRIPTION:
SUMMARY:Vacation Bible School at River City Baptist Church
ORGANIZER:
URL;VALUE=URI:https://www.jaxfray.com/event/vacation-bible-school-at-river-city-baptist-church
TRANSP:OPAQUE
BEGIN:VALARM
ACTION:DISPLAY
TRIGGER;VALUE=DATE-TIME:20260422T044721Z
DESCRIPTION:Reminder for Vacation Bible School at River City Baptist Church
END:VALARM
END:VEVENT
END:VCALENDAR