BEGIN:VCALENDAR
VERSION:2.0
PRODID:-//JAX Fray //NONSGML Events //EN
CALSCALE:GREGORIAN
X-WR-CALNAME:JAX Fray
BEGIN:VEVENT
CREATED:20220623T185241Z
UID:6786
DTEND;VALUE=DATE:20260422T044343Z
DTSTART;VALUE=DATE:20260422T044343Z
DTSTAMP:20260422T084343Z
LOCATION:
DESCRIPTION:
SUMMARY:S.H.E. Art Exhibition
ORGANIZER:
URL;VALUE=URI:https://www.jaxfray.com/event/s-h-e-art-exhibition
TRANSP:OPAQUE
BEGIN:VALARM
ACTION:DISPLAY
TRIGGER;VALUE=DATE-TIME:20260422T044343Z
DESCRIPTION:Reminder for S.H.E. Art Exhibition
END:VALARM
END:VEVENT
END:VCALENDAR