BEGIN:VCALENDAR
VERSION:2.0
PRODID:-//JAX Fray //NONSGML Events //EN
CALSCALE:GREGORIAN
X-WR-CALNAME:JAX Fray
BEGIN:VEVENT
CREATED:20220623T185049Z
UID:6784
DTEND;VALUE=DATE:20260422T044320Z
DTSTART;VALUE=DATE:20260422T044320Z
DTSTAMP:20260422T084320Z
LOCATION:
DESCRIPTION:
SUMMARY:The Final Sunset
ORGANIZER:
URL;VALUE=URI:https://www.jaxfray.com/event/the-final-sunset
TRANSP:OPAQUE
BEGIN:VALARM
ACTION:DISPLAY
TRIGGER;VALUE=DATE-TIME:20260422T044320Z
DESCRIPTION:Reminder for The Final Sunset
END:VALARM
END:VEVENT
END:VCALENDAR