BEGIN:VCALENDAR
VERSION:2.0
PRODID:-//JAX Fray //NONSGML Events //EN
CALSCALE:GREGORIAN
X-WR-CALNAME:JAX Fray
BEGIN:VEVENT
CREATED:20220616T180225Z
UID:6766
DTEND;VALUE=DATE:20260422T045242Z
DTSTART;VALUE=DATE:20260422T045242Z
DTSTAMP:20260422T085242Z
LOCATION:
DESCRIPTION:
SUMMARY:Jax Metalfest 2022 at Underbelly
ORGANIZER:
URL;VALUE=URI:https://www.jaxfray.com/event/jax-metalfest-2022-at-underbelly
TRANSP:OPAQUE
BEGIN:VALARM
ACTION:DISPLAY
TRIGGER;VALUE=DATE-TIME:20260422T045242Z
DESCRIPTION:Reminder for Jax Metalfest 2022 at Underbelly
END:VALARM
END:VEVENT
END:VCALENDAR