BEGIN:VCALENDAR
VERSION:2.0
PRODID:-//JAX Fray //NONSGML Events //EN
CALSCALE:GREGORIAN
X-WR-CALNAME:JAX Fray
BEGIN:VEVENT
CREATED:20220616T175950Z
UID:6764
DTEND;VALUE=DATE:20260422T051031Z
DTSTART;VALUE=DATE:20260422T051031Z
DTSTAMP:20260422T091031Z
LOCATION:
DESCRIPTION:
SUMMARY:Cocktail Tour – Amelia Island Downtown Tasting Tours
ORGANIZER:
URL;VALUE=URI:https://www.jaxfray.com/event/cocktail-tour-amelia-island-downtown-tasting-tours-4
TRANSP:OPAQUE
BEGIN:VALARM
ACTION:DISPLAY
TRIGGER;VALUE=DATE-TIME:20260422T051031Z
DESCRIPTION:Reminder for Cocktail Tour – Amelia Island Downtown Tasting Tours
END:VALARM
END:VEVENT
END:VCALENDAR