BEGIN:VCALENDAR
VERSION:2.0
PRODID:-//JAX Fray //NONSGML Events //EN
CALSCALE:GREGORIAN
X-WR-CALNAME:JAX Fray
BEGIN:VEVENT
CREATED:20220616T175625Z
UID:6758
DTEND;VALUE=DATE:20260422T062347Z
DTSTART;VALUE=DATE:20260422T062347Z
DTSTAMP:20260422T102347Z
LOCATION:
DESCRIPTION:
SUMMARY:Family Friendly Sunset Tour
ORGANIZER:
URL;VALUE=URI:https://www.jaxfray.com/event/family-friendly-sunset-tour
TRANSP:OPAQUE
BEGIN:VALARM
ACTION:DISPLAY
TRIGGER;VALUE=DATE-TIME:20260422T062347Z
DESCRIPTION:Reminder for Family Friendly Sunset Tour
END:VALARM
END:VEVENT
END:VCALENDAR