BEGIN:VCALENDAR
VERSION:2.0
PRODID:-//JAX Fray //NONSGML Events //EN
CALSCALE:GREGORIAN
X-WR-CALNAME:JAX Fray
BEGIN:VEVENT
CREATED:20220616T175342Z
UID:6754
DTEND;VALUE=DATE:20260422T061930Z
DTSTART;VALUE=DATE:20260422T061930Z
DTSTAMP:20260422T101930Z
LOCATION:
DESCRIPTION:
SUMMARY:Junior Artists (ages 5-8) – Online
ORGANIZER:
URL;VALUE=URI:https://www.jaxfray.com/event/junior-artists-ages-5-8-online
TRANSP:OPAQUE
BEGIN:VALARM
ACTION:DISPLAY
TRIGGER;VALUE=DATE-TIME:20260422T061930Z
DESCRIPTION:Reminder for Junior Artists (ages 5-8) – Online
END:VALARM
END:VEVENT
END:VCALENDAR