BEGIN:VCALENDAR
VERSION:2.0
PRODID:-//JAX Fray //NONSGML Events //EN
CALSCALE:GREGORIAN
X-WR-CALNAME:JAX Fray
BEGIN:VEVENT
CREATED:20220616T174506Z
UID:6743
DTEND;VALUE=DATE:20260422T075001Z
DTSTART;VALUE=DATE:20260422T075001Z
DTSTAMP:20260422T115001Z
LOCATION:
DESCRIPTION:
SUMMARY:Jacksonville Walking Tours – Top to Bottom
ORGANIZER:
URL;VALUE=URI:https://www.jaxfray.com/event/jacksonville-walking-tours-top-to-bottom-5
TRANSP:OPAQUE
BEGIN:VALARM
ACTION:DISPLAY
TRIGGER;VALUE=DATE-TIME:20260422T075001Z
DESCRIPTION:Reminder for Jacksonville Walking Tours – Top to Bottom
END:VALARM
END:VEVENT
END:VCALENDAR