BEGIN:VCALENDAR
VERSION:2.0
PRODID:-//JAX Fray //NONSGML Events //EN
CALSCALE:GREGORIAN
X-WR-CALNAME:JAX Fray
BEGIN:VEVENT
CREATED:20220616T174419Z
UID:6741
DTEND;VALUE=DATE:20260422T075007Z
DTSTART;VALUE=DATE:20260422T075007Z
DTSTAMP:20260422T115007Z
LOCATION:
DESCRIPTION:
SUMMARY:Jacksonville Walking Tours – Top to Bottom
ORGANIZER:
URL;VALUE=URI:https://www.jaxfray.com/event/jacksonville-walking-tours-top-to-bottom-3
TRANSP:OPAQUE
BEGIN:VALARM
ACTION:DISPLAY
TRIGGER;VALUE=DATE-TIME:20260422T075007Z
DESCRIPTION:Reminder for Jacksonville Walking Tours – Top to Bottom
END:VALARM
END:VEVENT
END:VCALENDAR