BEGIN:VCALENDAR
VERSION:2.0
PRODID:-//JAX Fray //NONSGML Events //EN
CALSCALE:GREGORIAN
X-WR-CALNAME:JAX Fray
BEGIN:VEVENT
CREATED:20220616T174145Z
UID:6736
DTEND;VALUE=DATE:20260422T091549Z
DTSTART;VALUE=DATE:20260422T091549Z
DTSTAMP:20260422T131549Z
LOCATION:
DESCRIPTION:
SUMMARY:The Peach Truck Tour
ORGANIZER:
URL;VALUE=URI:https://www.jaxfray.com/event/the-peach-truck-tour
TRANSP:OPAQUE
BEGIN:VALARM
ACTION:DISPLAY
TRIGGER;VALUE=DATE-TIME:20260422T091549Z
DESCRIPTION:Reminder for The Peach Truck Tour
END:VALARM
END:VEVENT
END:VCALENDAR