BEGIN:VCALENDAR
VERSION:2.0
PRODID:-//JAX Fray //NONSGML Events //EN
CALSCALE:GREGORIAN
X-WR-CALNAME:JAX Fray
BEGIN:VEVENT
CREATED:20220616T173959Z
UID:6734
DTEND;VALUE=DATE:20260420T070440Z
DTSTART;VALUE=DATE:20260420T070440Z
DTSTAMP:20260420T110440Z
LOCATION:
DESCRIPTION:
SUMMARY:Move For Change 5K Juneteenth Celebration
ORGANIZER:
URL;VALUE=URI:https://www.jaxfray.com/event/move-for-change-5k-juneteenth-celebration
TRANSP:OPAQUE
BEGIN:VALARM
ACTION:DISPLAY
TRIGGER;VALUE=DATE-TIME:20260420T070440Z
DESCRIPTION:Reminder for Move For Change 5K Juneteenth Celebration
END:VALARM
END:VEVENT
END:VCALENDAR