BEGIN:VCALENDAR
VERSION:2.0
PRODID:-//JAX Fray //NONSGML Events //EN
CALSCALE:GREGORIAN
X-WR-CALNAME:JAX Fray
BEGIN:VEVENT
CREATED:20220616T173736Z
UID:6732
DTEND;VALUE=DATE:20260422T092800Z
DTSTART;VALUE=DATE:20260422T092800Z
DTSTAMP:20260422T132800Z
LOCATION:
DESCRIPTION:
SUMMARY:Juneteenth Bitcoin Block Party in Jacksonville at Bethel Baptist Church
ORGANIZER:
URL;VALUE=URI:https://www.jaxfray.com/event/juneteenth-bitcoin-block-party-in-jacksonville-at-bethel-baptist-church
TRANSP:OPAQUE
BEGIN:VALARM
ACTION:DISPLAY
TRIGGER;VALUE=DATE-TIME:20260422T092800Z
DESCRIPTION:Reminder for Juneteenth Bitcoin Block Party in Jacksonville at Bethel Baptist Church
END:VALARM
END:VEVENT
END:VCALENDAR