BEGIN:VCALENDAR
VERSION:2.0
PRODID:-//JAX Fray //NONSGML Events //EN
CALSCALE:GREGORIAN
X-WR-CALNAME:JAX Fray
BEGIN:VEVENT
CREATED:20220608T025313Z
UID:6703
DTEND;VALUE=DATE:20260422T091136Z
DTSTART;VALUE=DATE:20260422T091136Z
DTSTAMP:20260422T131136Z
LOCATION:
DESCRIPTION:
SUMMARY:Trap, Sip &amp; Paint
ORGANIZER:
URL;VALUE=URI:https://www.jaxfray.com/event/trap-sip-paint
TRANSP:OPAQUE
BEGIN:VALARM
ACTION:DISPLAY
TRIGGER;VALUE=DATE-TIME:20260422T091136Z
DESCRIPTION:Reminder for Trap\, Sip &amp; Paint
END:VALARM
END:VEVENT
END:VCALENDAR