BEGIN:VCALENDAR
VERSION:2.0
PRODID:-//JAX Fray //NONSGML Events //EN
CALSCALE:GREGORIAN
X-WR-CALNAME:JAX Fray
BEGIN:VEVENT
CREATED:20220608T025059Z
UID:6701
DTEND;VALUE=DATE:20260422T091055Z
DTSTART;VALUE=DATE:20260422T091055Z
DTSTAMP:20260422T131055Z
LOCATION:
DESCRIPTION:
SUMMARY:Electronic Thursdays Presents: Habstrakt Live
ORGANIZER:
URL;VALUE=URI:https://www.jaxfray.com/event/electronic-thursdays-presents-habstrakt-live
TRANSP:OPAQUE
BEGIN:VALARM
ACTION:DISPLAY
TRIGGER;VALUE=DATE-TIME:20260422T091055Z
DESCRIPTION:Reminder for Electronic Thursdays Presents: Habstrakt Live
END:VALARM
END:VEVENT
END:VCALENDAR