BEGIN:VCALENDAR
VERSION:2.0
PRODID:-//JAX Fray //NONSGML Events //EN
CALSCALE:GREGORIAN
X-WR-CALNAME:JAX Fray
BEGIN:VEVENT
CREATED:20220608T024857Z
UID:6699
DTEND;VALUE=DATE:20260422T092819Z
DTSTART;VALUE=DATE:20260422T092819Z
DTSTAMP:20260422T132819Z
LOCATION:
DESCRIPTION:
SUMMARY:Making Mosaics: An Evening of Stories and Poems from the Fragments of Life
ORGANIZER:
URL;VALUE=URI:https://www.jaxfray.com/event/making-mosaics-an-evening-of-stories-and-poems-from-the-fragments-of-life
TRANSP:OPAQUE
BEGIN:VALARM
ACTION:DISPLAY
TRIGGER;VALUE=DATE-TIME:20260422T092819Z
DESCRIPTION:Reminder for Making Mosaics: An Evening of Stories and Poems from the Fragments of Life
END:VALARM
END:VEVENT
END:VCALENDAR