BEGIN:VCALENDAR
VERSION:2.0
PRODID:-//JAX Fray //NONSGML Events //EN
CALSCALE:GREGORIAN
X-WR-CALNAME:JAX Fray
BEGIN:VEVENT
CREATED:20220607T160117Z
UID:6691
DTEND;VALUE=DATE:20260422T090810Z
DTSTART;VALUE=DATE:20260422T090810Z
DTSTAMP:20260422T130810Z
LOCATION:
DESCRIPTION:
SUMMARY:Off Park Street Market
ORGANIZER:
URL;VALUE=URI:https://www.jaxfray.com/event/off-park-street-market
TRANSP:OPAQUE
BEGIN:VALARM
ACTION:DISPLAY
TRIGGER;VALUE=DATE-TIME:20260422T090810Z
DESCRIPTION:Reminder for Off Park Street Market
END:VALARM
END:VEVENT
END:VCALENDAR