BEGIN:VCALENDAR
VERSION:2.0
PRODID:-//JAX Fray //NONSGML Events //EN
CALSCALE:GREGORIAN
X-WR-CALNAME:JAX Fray
BEGIN:VEVENT
CREATED:20220603T033441Z
UID:6681
DTEND;VALUE=DATE:20260422T092819Z
DTSTART;VALUE=DATE:20260422T092819Z
DTSTAMP:20260422T132819Z
LOCATION:
DESCRIPTION:
SUMMARY:Fernandina Beach Pride Parade &amp; Festival
ORGANIZER:
URL;VALUE=URI:https://www.jaxfray.com/event/fernandina-beach-pride-parade-festival
TRANSP:OPAQUE
BEGIN:VALARM
ACTION:DISPLAY
TRIGGER;VALUE=DATE-TIME:20260422T092819Z
DESCRIPTION:Reminder for Fernandina Beach Pride Parade &amp; Festival
END:VALARM
END:VEVENT
END:VCALENDAR