BEGIN:VCALENDAR
VERSION:2.0
PRODID:-//JAX Fray //NONSGML Events //EN
CALSCALE:GREGORIAN
X-WR-CALNAME:JAX Fray
BEGIN:VEVENT
CREATED:20220531T031956Z
UID:6672
DTEND;VALUE=DATE:20260422T092916Z
DTSTART;VALUE=DATE:20260422T092916Z
DTSTAMP:20260422T132916Z
LOCATION:
DESCRIPTION:
SUMMARY:Backyard BBQ With Pride We Stand
ORGANIZER:
URL;VALUE=URI:https://www.jaxfray.com/event/backyard-bbq-with-pride-we-stand
TRANSP:OPAQUE
BEGIN:VALARM
ACTION:DISPLAY
TRIGGER;VALUE=DATE-TIME:20260422T092916Z
DESCRIPTION:Reminder for Backyard BBQ With Pride We Stand
END:VALARM
END:VEVENT
END:VCALENDAR