BEGIN:VCALENDAR
VERSION:2.0
PRODID:-//JAX Fray //NONSGML Events //EN
CALSCALE:GREGORIAN
X-WR-CALNAME:JAX Fray
BEGIN:VEVENT
CREATED:20220531T031535Z
UID:6668
DTEND;VALUE=DATE:20260422T103912Z
DTSTART;VALUE=DATE:20260422T103912Z
DTSTAMP:20260422T143912Z
LOCATION:
DESCRIPTION:
SUMMARY:Sounds on Centre
ORGANIZER:
URL;VALUE=URI:https://www.jaxfray.com/event/sounds-on-centre
TRANSP:OPAQUE
BEGIN:VALARM
ACTION:DISPLAY
TRIGGER;VALUE=DATE-TIME:20260422T103912Z
DESCRIPTION:Reminder for Sounds on Centre
END:VALARM
END:VEVENT
END:VCALENDAR