BEGIN:VCALENDAR
VERSION:2.0
PRODID:-//JAX Fray //NONSGML Events //EN
CALSCALE:GREGORIAN
X-WR-CALNAME:JAX Fray
BEGIN:VEVENT
CREATED:20220531T031218Z
UID:6665
DTEND;VALUE=DATE:20260422T110303Z
DTSTART;VALUE=DATE:20260422T110303Z
DTSTAMP:20260422T150303Z
LOCATION:
DESCRIPTION:
SUMMARY:B Simone at The Comedy Zone
ORGANIZER:
URL;VALUE=URI:https://www.jaxfray.com/event/b-simone-at-the-comedy-zone
TRANSP:OPAQUE
BEGIN:VALARM
ACTION:DISPLAY
TRIGGER;VALUE=DATE-TIME:20260422T110303Z
DESCRIPTION:Reminder for B Simone at The Comedy Zone
END:VALARM
END:VEVENT
END:VCALENDAR