BEGIN:VCALENDAR
VERSION:2.0
PRODID:-//JAX Fray //NONSGML Events //EN
CALSCALE:GREGORIAN
X-WR-CALNAME:JAX Fray
BEGIN:VEVENT
CREATED:20220531T030944Z
UID:6663
DTEND;VALUE=DATE:20260420T070500Z
DTSTART;VALUE=DATE:20260420T070500Z
DTSTAMP:20260420T110500Z
LOCATION:
DESCRIPTION:
SUMMARY:Mindful Hour: Yoga in the Gardens
ORGANIZER:
URL;VALUE=URI:https://www.jaxfray.com/event/mindful-hour-yoga-in-the-gardens
TRANSP:OPAQUE
BEGIN:VALARM
ACTION:DISPLAY
TRIGGER;VALUE=DATE-TIME:20260420T070500Z
DESCRIPTION:Reminder for Mindful Hour: Yoga in the Gardens
END:VALARM
END:VEVENT
END:VCALENDAR