BEGIN:VCALENDAR
VERSION:2.0
PRODID:-//JAX Fray //NONSGML Events //EN
CALSCALE:GREGORIAN
X-WR-CALNAME:JAX Fray
BEGIN:VEVENT
CREATED:20220531T030458Z
UID:6661
DTEND;VALUE=DATE:20260422T104559Z
DTSTART;VALUE=DATE:20260422T104559Z
DTSTAMP:20260422T144559Z
LOCATION:
DESCRIPTION:
SUMMARY:Brit Floyd
ORGANIZER:
URL;VALUE=URI:https://www.jaxfray.com/event/brit-floyd
TRANSP:OPAQUE
BEGIN:VALARM
ACTION:DISPLAY
TRIGGER;VALUE=DATE-TIME:20260422T104559Z
DESCRIPTION:Reminder for Brit Floyd
END:VALARM
END:VEVENT
END:VCALENDAR