BEGIN:VCALENDAR
VERSION:2.0
PRODID:-//JAX Fray //NONSGML Events //EN
CALSCALE:GREGORIAN
X-WR-CALNAME:JAX Fray
BEGIN:VEVENT
CREATED:20220531T030135Z
UID:6659
DTEND;VALUE=DATE:20260422T105649Z
DTSTART;VALUE=DATE:20260422T105649Z
DTSTAMP:20260422T145649Z
LOCATION:
DESCRIPTION:
SUMMARY:Colossal Creatures
ORGANIZER:
URL;VALUE=URI:https://www.jaxfray.com/event/colossal-creatures
TRANSP:OPAQUE
BEGIN:VALARM
ACTION:DISPLAY
TRIGGER;VALUE=DATE-TIME:20260422T105649Z
DESCRIPTION:Reminder for Colossal Creatures
END:VALARM
END:VEVENT
END:VCALENDAR