BEGIN:VCALENDAR
VERSION:2.0
PRODID:-//JAX Fray //NONSGML Events //EN
CALSCALE:GREGORIAN
X-WR-CALNAME:JAX Fray
BEGIN:VEVENT
CREATED:20220524T231437Z
UID:6638
DTEND;VALUE=DATE:20260422T110318Z
DTSTART;VALUE=DATE:20260422T110318Z
DTSTAMP:20260422T150318Z
LOCATION:
DESCRIPTION:
SUMMARY:Back 2 the Basics 23
ORGANIZER:
URL;VALUE=URI:https://www.jaxfray.com/event/back-2-the-basics-23
TRANSP:OPAQUE
BEGIN:VALARM
ACTION:DISPLAY
TRIGGER;VALUE=DATE-TIME:20260422T110318Z
DESCRIPTION:Reminder for Back 2 the Basics 23
END:VALARM
END:VEVENT
END:VCALENDAR