BEGIN:VCALENDAR
VERSION:2.0
PRODID:-//JAX Fray //NONSGML Events //EN
CALSCALE:GREGORIAN
X-WR-CALNAME:JAX Fray
BEGIN:VEVENT
CREATED:20220524T230843Z
UID:6634
DTEND;VALUE=DATE:20260422T105228Z
DTSTART;VALUE=DATE:20260422T105228Z
DTSTAMP:20260422T145228Z
LOCATION:
DESCRIPTION:
SUMMARY:Jacksonville Pet Expo
ORGANIZER:
URL;VALUE=URI:https://www.jaxfray.com/event/jacksonville-pet-expo
TRANSP:OPAQUE
BEGIN:VALARM
ACTION:DISPLAY
TRIGGER;VALUE=DATE-TIME:20260422T105228Z
DESCRIPTION:Reminder for Jacksonville Pet Expo
END:VALARM
END:VEVENT
END:VCALENDAR