BEGIN:VCALENDAR
VERSION:2.0
PRODID:-//JAX Fray //NONSGML Events //EN
CALSCALE:GREGORIAN
X-WR-CALNAME:JAX Fray
BEGIN:VEVENT
CREATED:20220524T230502Z
UID:6632
DTEND;VALUE=DATE:20260422T122505Z
DTSTART;VALUE=DATE:20260422T122505Z
DTSTAMP:20260422T162505Z
LOCATION:
DESCRIPTION:
SUMMARY:The Color Purple
ORGANIZER:
URL;VALUE=URI:https://www.jaxfray.com/event/the-color-purple
TRANSP:OPAQUE
BEGIN:VALARM
ACTION:DISPLAY
TRIGGER;VALUE=DATE-TIME:20260422T122505Z
DESCRIPTION:Reminder for The Color Purple
END:VALARM
END:VEVENT
END:VCALENDAR