BEGIN:VCALENDAR
VERSION:2.0
PRODID:-//JAX Fray //NONSGML Events //EN
CALSCALE:GREGORIAN
X-WR-CALNAME:JAX Fray
BEGIN:VEVENT
CREATED:20220524T230224Z
UID:6630
DTEND;VALUE=DATE:20260422T122022Z
DTSTART;VALUE=DATE:20260422T122022Z
DTSTAMP:20260422T162022Z
LOCATION:
DESCRIPTION:
SUMMARY:Girls Night Out the Show
ORGANIZER:
URL;VALUE=URI:https://www.jaxfray.com/event/girls-night-out-the-show
TRANSP:OPAQUE
BEGIN:VALARM
ACTION:DISPLAY
TRIGGER;VALUE=DATE-TIME:20260422T122022Z
DESCRIPTION:Reminder for Girls Night Out the Show
END:VALARM
END:VEVENT
END:VCALENDAR