BEGIN:VCALENDAR
VERSION:2.0
PRODID:-//JAX Fray //NONSGML Events //EN
CALSCALE:GREGORIAN
X-WR-CALNAME:JAX Fray
BEGIN:VEVENT
CREATED:20220524T225952Z
UID:6628
DTEND;VALUE=DATE:20260422T121335Z
DTSTART;VALUE=DATE:20260422T121335Z
DTSTAMP:20260422T161335Z
LOCATION:
DESCRIPTION:
SUMMARY:Riverside Arts Market
ORGANIZER:
URL;VALUE=URI:https://www.jaxfray.com/event/riverside-arts-market
TRANSP:OPAQUE
BEGIN:VALARM
ACTION:DISPLAY
TRIGGER;VALUE=DATE-TIME:20260422T121335Z
DESCRIPTION:Reminder for Riverside Arts Market
END:VALARM
END:VEVENT
END:VCALENDAR