BEGIN:VCALENDAR
VERSION:2.0
PRODID:-//JAX Fray //NONSGML Events //EN
CALSCALE:GREGORIAN
X-WR-CALNAME:JAX Fray
BEGIN:VEVENT
CREATED:20220524T225632Z
UID:6626
DTEND;VALUE=DATE:20260422T121319Z
DTSTART;VALUE=DATE:20260422T121319Z
DTSTAMP:20260422T161319Z
LOCATION:
DESCRIPTION:
SUMMARY:Sunset Garden Picnics
ORGANIZER:
URL;VALUE=URI:https://www.jaxfray.com/event/sunset-garden-picnics
TRANSP:OPAQUE
BEGIN:VALARM
ACTION:DISPLAY
TRIGGER;VALUE=DATE-TIME:20260422T121319Z
DESCRIPTION:Reminder for Sunset Garden Picnics
END:VALARM
END:VEVENT
END:VCALENDAR