BEGIN:VCALENDAR
VERSION:2.0
PRODID:-//JAX Fray //NONSGML Events //EN
CALSCALE:GREGORIAN
X-WR-CALNAME:JAX Fray
BEGIN:VEVENT
CREATED:20220524T174439Z
UID:6616
DTEND;VALUE=DATE:20260422T121319Z
DTSTART;VALUE=DATE:20260422T121319Z
DTSTAMP:20260422T161319Z
LOCATION:
DESCRIPTION:
SUMMARY:Jumbo Shrimp Game &amp; Player Party!
ORGANIZER:
URL;VALUE=URI:https://www.jaxfray.com/event/jumbo-shrimp-game-player-party
TRANSP:OPAQUE
BEGIN:VALARM
ACTION:DISPLAY
TRIGGER;VALUE=DATE-TIME:20260422T121319Z
DESCRIPTION:Reminder for Jumbo Shrimp Game &amp; Player Party!
END:VALARM
END:VEVENT
END:VCALENDAR