BEGIN:VCALENDAR
VERSION:2.0
PRODID:-//JAX Fray //NONSGML Events //EN
CALSCALE:GREGORIAN
X-WR-CALNAME:JAX Fray
BEGIN:VEVENT
CREATED:20220523T195822Z
UID:6612
DTEND;VALUE=DATE:20260422T121335Z
DTSTART;VALUE=DATE:20260422T121335Z
DTSTAMP:20260422T161335Z
LOCATION:
DESCRIPTION:
SUMMARY:Jacksonville Symphony: Mozart and Juliette — Symphony in 60
ORGANIZER:
URL;VALUE=URI:https://www.jaxfray.com/event/jacksonville-symphony-mozart-and-juliette-symphony-in-60
TRANSP:OPAQUE
BEGIN:VALARM
ACTION:DISPLAY
TRIGGER;VALUE=DATE-TIME:20260422T121335Z
DESCRIPTION:Reminder for Jacksonville Symphony: Mozart and Juliette — Symphony in 60
END:VALARM
END:VEVENT
END:VCALENDAR