BEGIN:VCALENDAR
VERSION:2.0
PRODID:-//JAX Fray //NONSGML Events //EN
CALSCALE:GREGORIAN
X-WR-CALNAME:JAX Fray
BEGIN:VEVENT
CREATED:20220523T190713Z
UID:6609
DTEND;VALUE=DATE:20260422T122740Z
DTSTART;VALUE=DATE:20260422T122740Z
DTSTAMP:20260422T162740Z
LOCATION:
DESCRIPTION:
SUMMARY:Pajama Jam Paint Party hosted by Party &amp; Paint
ORGANIZER:
URL;VALUE=URI:https://www.jaxfray.com/event/pajama-jam-paint-party-hosted-by-party-paint
TRANSP:OPAQUE
BEGIN:VALARM
ACTION:DISPLAY
TRIGGER;VALUE=DATE-TIME:20260422T122740Z
DESCRIPTION:Reminder for Pajama Jam Paint Party hosted by Party &amp; Paint
END:VALARM
END:VEVENT
END:VCALENDAR