BEGIN:VCALENDAR
VERSION:2.0
PRODID:-//JAX Fray //NONSGML Events //EN
CALSCALE:GREGORIAN
X-WR-CALNAME:JAX Fray
BEGIN:VEVENT
CREATED:20220523T190445Z
UID:6607
DTEND;VALUE=DATE:20260422T121308Z
DTSTART;VALUE=DATE:20260422T121308Z
DTSTAMP:20260422T161308Z
LOCATION:
DESCRIPTION:
SUMMARY:Jax Juneteenth Rooftop Celebration
ORGANIZER:
URL;VALUE=URI:https://www.jaxfray.com/event/jax-juneteenth-rooftop-celebration
TRANSP:OPAQUE
BEGIN:VALARM
ACTION:DISPLAY
TRIGGER;VALUE=DATE-TIME:20260422T121308Z
DESCRIPTION:Reminder for Jax Juneteenth Rooftop Celebration
END:VALARM
END:VEVENT
END:VCALENDAR