BEGIN:VCALENDAR
VERSION:2.0
PRODID:-//JAX Fray //NONSGML Events //EN
CALSCALE:GREGORIAN
X-WR-CALNAME:JAX Fray
BEGIN:VEVENT
CREATED:20220516T212403Z
UID:6587
DTEND;VALUE=DATE:20260422T133532Z
DTSTART;VALUE=DATE:20260422T133532Z
DTSTAMP:20260422T173532Z
LOCATION:
DESCRIPTION:
SUMMARY:The R&amp;B Cookout
ORGANIZER:
URL;VALUE=URI:https://www.jaxfray.com/event/the-rb-cookout
TRANSP:OPAQUE
BEGIN:VALARM
ACTION:DISPLAY
TRIGGER;VALUE=DATE-TIME:20260422T133532Z
DESCRIPTION:Reminder for The R&amp;B Cookout
END:VALARM
END:VEVENT
END:VCALENDAR