BEGIN:VCALENDAR
VERSION:2.0
PRODID:-//JAX Fray //NONSGML Events //EN
CALSCALE:GREGORIAN
X-WR-CALNAME:JAX Fray
BEGIN:VEVENT
CREATED:20220516T212221Z
UID:6585
DTEND;VALUE=DATE:20260422T133654Z
DTSTART;VALUE=DATE:20260422T133654Z
DTSTAMP:20260422T173654Z
LOCATION:
DESCRIPTION:
SUMMARY:Jacksonville Official Silent Party
ORGANIZER:
URL;VALUE=URI:https://www.jaxfray.com/event/jacksonville-official-silent-party
TRANSP:OPAQUE
BEGIN:VALARM
ACTION:DISPLAY
TRIGGER;VALUE=DATE-TIME:20260422T133654Z
DESCRIPTION:Reminder for Jacksonville Official Silent Party
END:VALARM
END:VEVENT
END:VCALENDAR