BEGIN:VCALENDAR
VERSION:2.0
PRODID:-//JAX Fray //NONSGML Events //EN
CALSCALE:GREGORIAN
X-WR-CALNAME:JAX Fray
BEGIN:VEVENT
CREATED:20220516T212022Z
UID:6583
DTEND;VALUE=DATE:20260422T133527Z
DTSTART;VALUE=DATE:20260422T133527Z
DTSTAMP:20260422T173527Z
LOCATION:
DESCRIPTION:
SUMMARY:Jax200 – Jacksonville Florida Bicentennial Celebration
ORGANIZER:
URL;VALUE=URI:https://www.jaxfray.com/event/jax200-jacksonville-florida-bicentennial-celebration
TRANSP:OPAQUE
BEGIN:VALARM
ACTION:DISPLAY
TRIGGER;VALUE=DATE-TIME:20260422T133527Z
DESCRIPTION:Reminder for Jax200 – Jacksonville Florida Bicentennial Celebration
END:VALARM
END:VEVENT
END:VCALENDAR