BEGIN:VCALENDAR
VERSION:2.0
PRODID:-//JAX Fray //NONSGML Events //EN
CALSCALE:GREGORIAN
X-WR-CALNAME:JAX Fray
BEGIN:VEVENT
CREATED:20220516T211826Z
UID:6582
DTEND;VALUE=DATE:20260422T133420Z
DTSTART;VALUE=DATE:20260422T133420Z
DTSTAMP:20260422T173420Z
LOCATION:
DESCRIPTION:
SUMMARY:Jacksonville Murder Mystery Dinner – I Love the 80’s to Death
ORGANIZER:
URL;VALUE=URI:https://www.jaxfray.com/event/jacksonville-murder-mystery-dinner-i-love-the-80s-to-death-2
TRANSP:OPAQUE
BEGIN:VALARM
ACTION:DISPLAY
TRIGGER;VALUE=DATE-TIME:20260422T133420Z
DESCRIPTION:Reminder for Jacksonville Murder Mystery Dinner – I Love the 80’s to Death
END:VALARM
END:VEVENT
END:VCALENDAR