BEGIN:VCALENDAR
VERSION:2.0
PRODID:-//JAX Fray //NONSGML Events //EN
CALSCALE:GREGORIAN
X-WR-CALNAME:JAX Fray
BEGIN:VEVENT
CREATED:20220516T211254Z
UID:6578
DTEND;VALUE=DATE:20260422T133538Z
DTSTART;VALUE=DATE:20260422T133538Z
DTSTAMP:20260422T173538Z
LOCATION:
DESCRIPTION:
SUMMARY:Reptiles After Dark
ORGANIZER:
URL;VALUE=URI:https://www.jaxfray.com/event/reptiles-after-dark
TRANSP:OPAQUE
BEGIN:VALARM
ACTION:DISPLAY
TRIGGER;VALUE=DATE-TIME:20260422T133538Z
DESCRIPTION:Reminder for Reptiles After Dark
END:VALARM
END:VEVENT
END:VCALENDAR