BEGIN:VCALENDAR
VERSION:2.0
PRODID:-//JAX Fray //NONSGML Events //EN
CALSCALE:GREGORIAN
X-WR-CALNAME:JAX Fray
BEGIN:VEVENT
CREATED:20220516T211028Z
UID:6577
DTEND;VALUE=DATE:20260420T070403Z
DTSTART;VALUE=DATE:20260420T070403Z
DTSTAMP:20260420T110403Z
LOCATION:
DESCRIPTION:
SUMMARY:MOCA &amp; Yoga 4 Change Present: Artful Movement
ORGANIZER:
URL;VALUE=URI:https://www.jaxfray.com/event/moca-yoga-4-change-present-artful-movement-7
TRANSP:OPAQUE
BEGIN:VALARM
ACTION:DISPLAY
TRIGGER;VALUE=DATE-TIME:20260420T070403Z
DESCRIPTION:Reminder for MOCA &amp; Yoga 4 Change Present: Artful Movement
END:VALARM
END:VEVENT
END:VCALENDAR