BEGIN:VCALENDAR
VERSION:2.0
PRODID:-//JAX Fray //NONSGML Events //EN
CALSCALE:GREGORIAN
X-WR-CALNAME:JAX Fray
BEGIN:VEVENT
CREATED:20220516T210948Z
UID:6575
DTEND;VALUE=DATE:20260420T070413Z
DTSTART;VALUE=DATE:20260420T070413Z
DTSTAMP:20260420T110413Z
LOCATION:
DESCRIPTION:
SUMMARY:MOCA &amp; Yoga 4 Change Present: Artful Movement
ORGANIZER:
URL;VALUE=URI:https://www.jaxfray.com/event/moca-yoga-4-change-present-artful-movement-5
TRANSP:OPAQUE
BEGIN:VALARM
ACTION:DISPLAY
TRIGGER;VALUE=DATE-TIME:20260420T070413Z
DESCRIPTION:Reminder for MOCA &amp; Yoga 4 Change Present: Artful Movement
END:VALARM
END:VEVENT
END:VCALENDAR