BEGIN:VCALENDAR
VERSION:2.0
PRODID:-//JAX Fray //NONSGML Events //EN
CALSCALE:GREGORIAN
X-WR-CALNAME:JAX Fray
BEGIN:VEVENT
CREATED:20220426T160940Z
UID:6481
DTEND;VALUE=DATE:20260422T150021Z
DTSTART;VALUE=DATE:20260422T150021Z
DTSTAMP:20260422T190021Z
LOCATION:
DESCRIPTION:
SUMMARY:First Friday Mother’s Day Weekend
ORGANIZER:
URL;VALUE=URI:https://www.jaxfray.com/event/first-friday-mothers-day-weekend
TRANSP:OPAQUE
BEGIN:VALARM
ACTION:DISPLAY
TRIGGER;VALUE=DATE-TIME:20260422T150021Z
DESCRIPTION:Reminder for First Friday Mother’s Day Weekend
END:VALARM
END:VEVENT
END:VCALENDAR