BEGIN:VCALENDAR
VERSION:2.0
PRODID:-//JAX Fray //NONSGML Events //EN
CALSCALE:GREGORIAN
X-WR-CALNAME:JAX Fray
BEGIN:VEVENT
CREATED:20220426T160638Z
UID:6479
DTEND;VALUE=DATE:20260422T150021Z
DTSTART;VALUE=DATE:20260422T150021Z
DTSTAMP:20260422T190021Z
LOCATION:
DESCRIPTION:
SUMMARY:JAXPORT Small Business Appreciation Day
ORGANIZER:
URL;VALUE=URI:https://www.jaxfray.com/event/jaxport-small-business-appreciation-day
TRANSP:OPAQUE
BEGIN:VALARM
ACTION:DISPLAY
TRIGGER;VALUE=DATE-TIME:20260422T150021Z
DESCRIPTION:Reminder for JAXPORT Small Business Appreciation Day
END:VALARM
END:VEVENT
END:VCALENDAR