BEGIN:VCALENDAR
VERSION:2.0
PRODID:-//JAX Fray //NONSGML Events //EN
CALSCALE:GREGORIAN
X-WR-CALNAME:JAX Fray
BEGIN:VEVENT
CREATED:20220426T160332Z
UID:6475
DTEND;VALUE=DATE:20260422T150015Z
DTSTART;VALUE=DATE:20260422T150015Z
DTSTAMP:20260422T190015Z
LOCATION:
DESCRIPTION:
SUMMARY:OUR HOUSE Ft. Kendoll @Archetype[Sound Union X Archetype]
ORGANIZER:
URL;VALUE=URI:https://www.jaxfray.com/event/our-house-ft-kendoll-archetypesound-union-x-archetype
TRANSP:OPAQUE
BEGIN:VALARM
ACTION:DISPLAY
TRIGGER;VALUE=DATE-TIME:20260422T150015Z
DESCRIPTION:Reminder for OUR HOUSE Ft. Kendoll @Archetype[Sound Union X Archetype]
END:VALARM
END:VEVENT
END:VCALENDAR