BEGIN:VCALENDAR
VERSION:2.0
PRODID:-//JAX Fray //NONSGML Events //EN
CALSCALE:GREGORIAN
X-WR-CALNAME:JAX Fray
BEGIN:VEVENT
CREATED:20220426T160132Z
UID:6473
DTEND;VALUE=DATE:20260422T162049Z
DTSTART;VALUE=DATE:20260422T162049Z
DTSTAMP:20260422T202049Z
LOCATION:
DESCRIPTION:
SUMMARY:10th Annual King of the South Featuring Import Warz
ORGANIZER:
URL;VALUE=URI:https://www.jaxfray.com/event/10th-annual-king-of-the-south-featuring-import-warz
TRANSP:OPAQUE
BEGIN:VALARM
ACTION:DISPLAY
TRIGGER;VALUE=DATE-TIME:20260422T162049Z
DESCRIPTION:Reminder for 10th Annual King of the South Featuring Import Warz
END:VALARM
END:VEVENT
END:VCALENDAR