BEGIN:VCALENDAR
VERSION:2.0
PRODID:-//JAX Fray //NONSGML Events //EN
CALSCALE:GREGORIAN
X-WR-CALNAME:JAX Fray
BEGIN:VEVENT
CREATED:20220426T155735Z
UID:6469
DTEND;VALUE=DATE:20260422T162211Z
DTSTART;VALUE=DATE:20260422T162211Z
DTSTAMP:20260422T202211Z
LOCATION:
DESCRIPTION:
SUMMARY:Just Between Friends-West Jacksonville Spring Sale!
ORGANIZER:
URL;VALUE=URI:https://www.jaxfray.com/event/just-between-friends-west-jacksonville-spring-sale
TRANSP:OPAQUE
BEGIN:VALARM
ACTION:DISPLAY
TRIGGER;VALUE=DATE-TIME:20260422T162211Z
DESCRIPTION:Reminder for Just Between Friends-West Jacksonville Spring Sale!
END:VALARM
END:VEVENT
END:VCALENDAR