BEGIN:VCALENDAR
VERSION:2.0
PRODID:-//JAX Fray //NONSGML Events //EN
CALSCALE:GREGORIAN
X-WR-CALNAME:JAX Fray
BEGIN:VEVENT
CREATED:20220426T155512Z
UID:6467
DTEND;VALUE=DATE:20260422T162135Z
DTSTART;VALUE=DATE:20260422T162135Z
DTSTAMP:20260422T202135Z
LOCATION:
DESCRIPTION:
SUMMARY:Cinco De Drinko Bar Crawl – Jacksonville
ORGANIZER:
URL;VALUE=URI:https://www.jaxfray.com/event/cinco-de-drinko-bar-crawl-jacksonville
TRANSP:OPAQUE
BEGIN:VALARM
ACTION:DISPLAY
TRIGGER;VALUE=DATE-TIME:20260422T162135Z
DESCRIPTION:Reminder for Cinco De Drinko Bar Crawl – Jacksonville
END:VALARM
END:VEVENT
END:VCALENDAR