BEGIN:VCALENDAR
VERSION:2.0
PRODID:-//JAX Fray //NONSGML Events //EN
CALSCALE:GREGORIAN
X-WR-CALNAME:JAX Fray
BEGIN:VEVENT
CREATED:20220419T164037Z
UID:6420
DTEND;VALUE=DATE:20260422T162252Z
DTSTART;VALUE=DATE:20260422T162252Z
DTSTAMP:20260422T202252Z
LOCATION:
DESCRIPTION:
SUMMARY:Everybody’s Favorite BBQ &amp; Hot Sauce Festival
ORGANIZER:
URL;VALUE=URI:https://www.jaxfray.com/event/everybodys-favorite-bbq-hot-sauce-festival
TRANSP:OPAQUE
BEGIN:VALARM
ACTION:DISPLAY
TRIGGER;VALUE=DATE-TIME:20260422T162252Z
DESCRIPTION:Reminder for Everybody’s Favorite BBQ &amp; Hot Sauce Festival
END:VALARM
END:VEVENT
END:VCALENDAR