BEGIN:VCALENDAR
VERSION:2.0
PRODID:-//JAX Fray //NONSGML Events //EN
CALSCALE:GREGORIAN
X-WR-CALNAME:JAX Fray
BEGIN:VEVENT
CREATED:20220419T163756Z
UID:6418
DTEND;VALUE=DATE:20260422T162129Z
DTSTART;VALUE=DATE:20260422T162129Z
DTSTAMP:20260422T202129Z
LOCATION:
DESCRIPTION:
SUMMARY:Amelia Island Wine Company: Spring Wine Festival
ORGANIZER:
URL;VALUE=URI:https://www.jaxfray.com/event/amelia-island-wine-company-spring-wine-festival
TRANSP:OPAQUE
BEGIN:VALARM
ACTION:DISPLAY
TRIGGER;VALUE=DATE-TIME:20260422T162129Z
DESCRIPTION:Reminder for Amelia Island Wine Company: Spring Wine Festival
END:VALARM
END:VEVENT
END:VCALENDAR