BEGIN:VCALENDAR
VERSION:2.0
PRODID:-//JAX Fray //NONSGML Events //EN
CALSCALE:GREGORIAN
X-WR-CALNAME:JAX Fray
BEGIN:VEVENT
CREATED:20220419T163521Z
UID:6416
DTEND;VALUE=DATE:20260422T165256Z
DTSTART;VALUE=DATE:20260422T165256Z
DTSTAMP:20260422T205256Z
LOCATION:
DESCRIPTION:
SUMMARY:Electronic Thursdays Presents: Hi I’m Ghost Live | 4.21.22
ORGANIZER:
URL;VALUE=URI:https://www.jaxfray.com/event/electronic-thursdays-presents-hi-im-ghost-live-4-21-22
TRANSP:OPAQUE
BEGIN:VALARM
ACTION:DISPLAY
TRIGGER;VALUE=DATE-TIME:20260422T165256Z
DESCRIPTION:Reminder for Electronic Thursdays Presents: Hi I’m Ghost Live | 4.21.22
END:VALARM
END:VEVENT
END:VCALENDAR