BEGIN:VCALENDAR
VERSION:2.0
PRODID:-//JAX Fray //NONSGML Events //EN
CALSCALE:GREGORIAN
X-WR-CALNAME:JAX Fray
BEGIN:VEVENT
CREATED:20220419T163202Z
UID:6414
DTEND;VALUE=DATE:20260422T162049Z
DTSTART;VALUE=DATE:20260422T162049Z
DTSTAMP:20260422T202049Z
LOCATION:
DESCRIPTION:
SUMMARY:Jacksonville Autistic Society’s 2nd Annual Family Fun Day
ORGANIZER:
URL;VALUE=URI:https://www.jaxfray.com/event/jacksonville-autistic-societys-2nd-annual-family-fun-day
TRANSP:OPAQUE
BEGIN:VALARM
ACTION:DISPLAY
TRIGGER;VALUE=DATE-TIME:20260422T162049Z
DESCRIPTION:Reminder for Jacksonville Autistic Society’s 2nd Annual Family Fun Day
END:VALARM
END:VEVENT
END:VCALENDAR